BEGIN:VCALENDAR
VERSION:2.0
PRODID:-//Miss Persis Studio of Dance - ECPv6.15.20//NONSGML v1.0//EN
CALSCALE:GREGORIAN
METHOD:PUBLISH
X-ORIGINAL-URL:https://misspersisstudio.com
X-WR-CALDESC:Events for Miss Persis Studio of Dance
REFRESH-INTERVAL;VALUE=DURATION:PT1H
X-Robots-Tag:noindex
X-PUBLISHED-TTL:PT1H
BEGIN:VTIMEZONE
TZID:America/New_York
BEGIN:DAYLIGHT
TZOFFSETFROM:-0500
TZOFFSETTO:-0400
TZNAME:EDT
DTSTART:20240310T070000
END:DAYLIGHT
BEGIN:STANDARD
TZOFFSETFROM:-0400
TZOFFSETTO:-0500
TZNAME:EST
DTSTART:20241103T060000
END:STANDARD
BEGIN:DAYLIGHT
TZOFFSETFROM:-0500
TZOFFSETTO:-0400
TZNAME:EDT
DTSTART:20250309T070000
END:DAYLIGHT
BEGIN:STANDARD
TZOFFSETFROM:-0400
TZOFFSETTO:-0500
TZNAME:EST
DTSTART:20251102T060000
END:STANDARD
BEGIN:DAYLIGHT
TZOFFSETFROM:-0500
TZOFFSETTO:-0400
TZNAME:EDT
DTSTART:20260308T070000
END:DAYLIGHT
BEGIN:STANDARD
TZOFFSETFROM:-0400
TZOFFSETTO:-0500
TZNAME:EST
DTSTART:20261101T060000
END:STANDARD
BEGIN:DAYLIGHT
TZOFFSETFROM:-0500
TZOFFSETTO:-0400
TZNAME:EDT
DTSTART:20270314T070000
END:DAYLIGHT
BEGIN:STANDARD
TZOFFSETFROM:-0400
TZOFFSETTO:-0500
TZNAME:EST
DTSTART:20271107T060000
END:STANDARD
END:VTIMEZONE
BEGIN:VEVENT
DTSTART;TZID=America/New_York:20250528T190000
DTEND;TZID=America/New_York:20250528T200000
DTSTAMP:20260425T090254
CREATED:20250501T181136Z
LAST-MODIFIED:20250501T181546Z
UID:2968-1748458800-1748462400@misspersisstudio.com
SUMMARY:STARSTRUCK!
DESCRIPTION:Miss Persis Studio Recital \nMay 28th at 7:00pm at Arlington Music Hall
URL:https://misspersisstudio.com/event/starstruck
LOCATION:Arlington Music Hall\, 224N Center St.\, Arlington\, 76010
END:VEVENT
BEGIN:VEVENT
DTSTART;TZID=America/New_York:20260527T190000
DTEND;TZID=America/New_York:20260527T213000
DTSTAMP:20260425T090254
CREATED:20260415T222808Z
LAST-MODIFIED:20260415T222808Z
UID:3073-1779908400-1779917400@misspersisstudio.com
SUMMARY:Destinations - Let's Go! A Musical Dance Revue
DESCRIPTION:Arlington Music Hall\, 224 N. Center St\, Arlington TX \nAdmission FREE! Family friendly since 1954!
URL:https://misspersisstudio.com/event/destinations-lets-go-a-musical-dance-revue
END:VEVENT
END:VCALENDAR